BEGIN:VCALENDAR
VERSION:2.0
PRODID:-//Einecke - wandern - erleben - entdecken - ECPv6.15.20//NONSGML v1.0//EN
CALSCALE:GREGORIAN
METHOD:PUBLISH
X-WR-CALNAME:Einecke - wandern - erleben - entdecken
X-ORIGINAL-URL:https://einecke-wandern.de
X-WR-CALDESC:Veranstaltungen für Einecke - wandern - erleben - entdecken
REFRESH-INTERVAL;VALUE=DURATION:PT1H
X-Robots-Tag:noindex
X-PUBLISHED-TTL:PT1H
BEGIN:VTIMEZONE
TZID:Europe/Berlin
BEGIN:DAYLIGHT
TZOFFSETFROM:+0100
TZOFFSETTO:+0200
TZNAME:CEST
DTSTART:20210328T010000
END:DAYLIGHT
BEGIN:STANDARD
TZOFFSETFROM:+0200
TZOFFSETTO:+0100
TZNAME:CET
DTSTART:20211031T010000
END:STANDARD
BEGIN:DAYLIGHT
TZOFFSETFROM:+0100
TZOFFSETTO:+0200
TZNAME:CEST
DTSTART:20220327T010000
END:DAYLIGHT
BEGIN:STANDARD
TZOFFSETFROM:+0200
TZOFFSETTO:+0100
TZNAME:CET
DTSTART:20221030T010000
END:STANDARD
BEGIN:DAYLIGHT
TZOFFSETFROM:+0100
TZOFFSETTO:+0200
TZNAME:CEST
DTSTART:20230326T010000
END:DAYLIGHT
BEGIN:STANDARD
TZOFFSETFROM:+0200
TZOFFSETTO:+0100
TZNAME:CET
DTSTART:20231029T010000
END:STANDARD
BEGIN:DAYLIGHT
TZOFFSETFROM:+0100
TZOFFSETTO:+0200
TZNAME:CEST
DTSTART:20240331T010000
END:DAYLIGHT
BEGIN:STANDARD
TZOFFSETFROM:+0200
TZOFFSETTO:+0100
TZNAME:CET
DTSTART:20241027T010000
END:STANDARD
END:VTIMEZONE
BEGIN:VEVENT
DTSTART;TZID=Europe/Berlin:20230915T113000
DTEND;TZID=Europe/Berlin:20230917T150000
DTSTAMP:20260423T193819
CREATED:20230130T105437Z
LAST-MODIFIED:20230130T105437Z
UID:10000108-1694777400-1694962800@einecke-wandern.de
SUMMARY:Hüttenwanderung in der Spitzingseeregion
DESCRIPTION:Genusstour mit traumhaften Aussichten und Gipfelerlebnissen \nOrganisiert von meinem Partner ALPINE WELTEN wandert ihr mit mir durch die Bergwelt rund um den Spitzingsee. Wir übernachten in gemütlichen Berghütten und genießen traumhafte Ausblicke. \nWeitere Informationen und die Möglichkeit der DIREKTBUCHUNG findet ihr auf der Website von ALPINE WELTEN
URL:https://einecke-wandern.de/event/huettenwanderung-in-der-spitzingseeregion/
CATEGORIES:Touren
ATTACH;FMTTYPE=image/jpeg:https://einecke-wandern.de/wp-content/uploads/2023/01/IMG_0120-scaled.jpeg
END:VEVENT
BEGIN:VEVENT
DTSTART;TZID=Europe/Berlin:20230903T083000
DTEND;TZID=Europe/Berlin:20230909T120000
DTSTAMP:20260423T193819
CREATED:20230130T105453Z
LAST-MODIFIED:20230130T105453Z
UID:10000111-1693729800-1694260800@einecke-wandern.de
SUMMARY:Alpenüberquerung von Garmisch-Partenkirchen nach Sterzing
DESCRIPTION:Zu Fuß über die Alpen – besondere Herausforderung und traumhaftes Erlebnis \nOrganisiert von meinem Partner ALPS & MORE wandert ihr mit mir in 6 Etappen von Garmisch-Partenkirchen nach Sterzing in Südtirol. \nDies ist eine der schönsten Varianten\, um die Alpen zu Fuß zu überqueren. Dank Gepäcktransport und Übernachtungen in Hotels und Gasthöfen genießen wir besonderen Komfort. \nWeitere Informationen und die Möglichkeit der Direktbuchung findet ihr auf der Website von ALPS & MORE
URL:https://einecke-wandern.de/event/alpenueberquerung-von-garmisch-partenkirchen-nach-sterzing/
LOCATION:entsprechend Information zur Tour
CATEGORIES:Touren
ATTACH;FMTTYPE=image/jpeg:https://einecke-wandern.de/wp-content/uploads/2022/01/huettenwanderung_angebote.jpg
END:VEVENT
BEGIN:VEVENT
DTSTART;TZID=Europe/Berlin:20230828T083000
DTEND;TZID=Europe/Berlin:20230902T120000
DTSTAMP:20260423T193819
CREATED:20230130T105517Z
LAST-MODIFIED:20230130T105517Z
UID:10000110-1693211400-1693656000@einecke-wandern.de
SUMMARY:Alpenüberquerung von Garmisch-Partenkirchen nach Sterzing
DESCRIPTION:Zu Fuß über die Alpen – besondere Herausforderung und traumhaftes Erlebnis \nOrganisiert von meinem Partner ALPS & MORE wandert ihr mit mir in 6 Etappen von Garmisch-Partenkirchen nach Sterzing in Südtirol. \nDies ist eine der schönsten Varianten\, um die Alpen zu Fuß zu überqueren. Dank Gepäcktransport und Übernachtungen in Hotels und Gasthöfen genießen wir besonderen Komfort. \nWeitere Informationen und die Möglichkeit der Direktbuchung findet ihr auf der Website von ALPS & MORE
URL:https://einecke-wandern.de/event/alpenueberquerung-von-garmisch-partenkirchen-nach-sterzing-2/
LOCATION:entsprechend Information zur Tour
CATEGORIES:Touren
ATTACH;FMTTYPE=image/jpeg:https://einecke-wandern.de/wp-content/uploads/2022/01/huettenwanderung_angebote.jpg
END:VEVENT
BEGIN:VEVENT
DTSTART;TZID=Europe/Berlin:20230727T120000
DTEND;TZID=Europe/Berlin:20230731T143000
DTSTAMP:20260423T193819
CREATED:20230130T105532Z
LAST-MODIFIED:20230130T105532Z
UID:10000105-1690459200-1690813800@einecke-wandern.de
SUMMARY:Allgäuer Alpen mit Kindern
DESCRIPTION:Familienerlebnis mit Gleichgesinnten \nOrganisiert von meinem Partner WILDE ALPENTOUREN wandert ihr mit mir und einem weiteren Bergwanderführer von Hütte zu Hütte in den Allgäuer Alpen. Start ist am Bahnhof Pfronten -Steinach. \nWeitere Informationen und die Möglichkeit der Direktbuchung findet Ihr auf der Website von WILDE ALPENTOUREN
URL:https://einecke-wandern.de/event/allgaeuer-alpen-mit-kindern/
CATEGORIES:Familienerlebnisse
ATTACH;FMTTYPE=image/jpeg:https://einecke-wandern.de/wp-content/uploads/2022/01/header_familien.jpg
END:VEVENT
BEGIN:VEVENT
DTSTART;TZID=Europe/Berlin:20230720T120000
DTEND;TZID=Europe/Berlin:20230724T143000
DTSTAMP:20260423T193819
CREATED:20230130T105547Z
LAST-MODIFIED:20230130T105547Z
UID:10000104-1689854400-1690209000@einecke-wandern.de
SUMMARY:Allgäuer Alpen mit Kindern
DESCRIPTION:Familienerlebnis mit Gleichgesinnten \nOrganisiert von meinem Partner WILDE ALPENTOUREN wandert ihr mit mir und einem weiteren Bergwanderführer von Hütte zu Hütte in den Allgäuer Alpen. Start ist am Bahnhof Pfronten -Steinach. \nWeitere Informationen und die Möglichkeit der Direktbuchung findet Ihr auf der Website von WILDE ALPENTOUREN
URL:https://einecke-wandern.de/event/allgaeuer-alpen-mit-kindern-2/
CATEGORIES:Familienerlebnisse
ATTACH;FMTTYPE=image/jpeg:https://einecke-wandern.de/wp-content/uploads/2022/01/header_familien.jpg
END:VEVENT
BEGIN:VEVENT
DTSTART;TZID=Europe/Berlin:20230709T123000
DTEND;TZID=Europe/Berlin:20230716T123000
DTSTAMP:20260423T193819
CREATED:20230130T105605Z
LAST-MODIFIED:20230130T105605Z
UID:10000103-1688905800-1689510600@einecke-wandern.de
SUMMARY:Alpenüberquerung mit Komfort
DESCRIPTION:Zu Fuß über die Alpen – besondere Herausforderung und großartiges Erlebnis \nOrganisiert von meinem Partner WILDE ALPENTOUREN wandert ihr mit mir in 7 Etappen von Gmund am Tegernsee nach Sterzing in Südtirol. \nDies ist eine der leichtesten Varianten\, um die Alpen zu Fuß zu überqueren. Dank Gepäcktransport und Übernachtungen in Hotels und Gasthöfen genießen wir besonderen Komfort. \nWeitere Informationen und die Möglichkeit der Direktbuchung findet ihr auf der Website von WILDE ALPENTOUREN
URL:https://einecke-wandern.de/event/alpenueberquerung-mit-komfort/
LOCATION:entsprechend Information zur Tour
CATEGORIES:Touren
ATTACH;FMTTYPE=image/jpeg:https://einecke-wandern.de/wp-content/uploads/2022/03/kulinarische_reise_oesterre.jpg
END:VEVENT
BEGIN:VEVENT
DTSTART;TZID=Europe/Berlin:20230628T083000
DTEND;TZID=Europe/Berlin:20230704T120000
DTSTAMP:20260423T193819
CREATED:20230130T105621Z
LAST-MODIFIED:20230130T105621Z
UID:10000109-1687941000-1688472000@einecke-wandern.de
SUMMARY:Alpenüberquerung von Garmisch-Partenkirchen nach Sterzing
DESCRIPTION:Zu Fuß über die Alpen – besondere Herausforderung und traumhaftes Erlebnis \nOrganisiert von meinem Partner ALPS & MORE wandert ihr mit mir in 6 Etappen von Garmisch-Partenkirchen nach Sterzing in Südtirol. \nDies ist eine der schönsten Varianten\, um die Alpen zu Fuß zu überqueren. Dank Gepäcktransport und Übernachtungen in Hotels und Gasthöfen genießen wir besonderen Komfort. \nWeitere Informationen und die Möglichkeit der Direktbuchung findet ihr auf der Website von ALPS & MORE
URL:https://einecke-wandern.de/event/alpenueberquerung-von-garmisch-partenkirchen-nach-sterzing-3/
LOCATION:entsprechend Information zur Tour
CATEGORIES:Touren
ATTACH;FMTTYPE=image/jpeg:https://einecke-wandern.de/wp-content/uploads/2022/01/huettenwanderung_angebote.jpg
END:VEVENT
BEGIN:VEVENT
DTSTART;TZID=Europe/Berlin:20230611T083000
DTEND;TZID=Europe/Berlin:20230617T120000
DTSTAMP:20260423T193819
CREATED:20230130T105637Z
LAST-MODIFIED:20230130T105637Z
UID:10000107-1686472200-1687003200@einecke-wandern.de
SUMMARY:Alpenüberquerung von Garmisch-Partenkirchen nach Sterzing
DESCRIPTION:Zu Fuß über die Alpen – besondere Herausforderung und traumhaftes Erlebnis \nOrganisiert von meinem Partner ALPS & MORE wandert ihr mit mir in 6 Etappen von Garmisch-Partenkirchen nach Sterzing in Südtirol. \nDies ist eine der schönsten Varianten\, um die Alpen zu Fuß zu überqueren. Dank Gepäcktransport und Übernachtungen in Hotels und Gasthöfen genießen wir besonderen Komfort. \nWeitere Informationen und die Möglichkeit der Direktbuchung findet ihr auf der Website von ALPS & MORE
URL:https://einecke-wandern.de/event/alpenueberquerung-von-garmisch-partenkirchen-nach-sterzing-4/
LOCATION:entsprechend Information zur Tour
CATEGORIES:Touren
ATTACH;FMTTYPE=image/jpeg:https://einecke-wandern.de/wp-content/uploads/2022/01/huettenwanderung_angebote.jpg
END:VEVENT
BEGIN:VEVENT
DTSTART;TZID=Europe/Berlin:20230518T080000
DTEND;TZID=Europe/Berlin:20230521T140000
DTSTAMP:20260423T193819
CREATED:20230130T104116Z
LAST-MODIFIED:20230130T104116Z
UID:10000112-1684396800-1684677600@einecke-wandern.de
SUMMARY:Mehrtageswanderung Isergebirge
DESCRIPTION:AUSGEBUCHT \nDirekt an das Zittauer Gebirge schließt sich im Osten der Kamm des tschechischen Isergebirges an. Diese Mehrtageswanderung führt uns über bekannte und weniger bekannte Pfade hin zu interessanten Orten und Berggipfeln. Uns erwarten wunderbare Aussichten und das Zittauer Gebirge grüßt aus der Ferne.
URL:https://einecke-wandern.de/event/mehrtageswanderung-isergebirge-2/
LOCATION:entsprechend Information zur Tour
CATEGORIES:Touren
ATTACH;FMTTYPE=image/jpeg:https://einecke-wandern.de/wp-content/uploads/2022/04/Isergebirge.jpg
ORGANIZER;CN="EINECKE-Wandern":MAILTO:info@einecke-wandern.de
END:VEVENT
BEGIN:VEVENT
DTSTART;TZID=Europe/Berlin:20230219T080000
DTEND;TZID=Europe/Berlin:20230225T100000
DTSTAMP:20260423T193819
CREATED:20230130T114430Z
LAST-MODIFIED:20230130T114430Z
UID:10000116-1676793600-1677319200@einecke-wandern.de
SUMMARY:Individuelle Tour - Mehrtageswanderung
DESCRIPTION:Ein Erlebnis ganz nach Euren Wünschen  AUSGEBUCHT
URL:https://einecke-wandern.de/event/individuelle-tour-mehrtageswanderung/
LOCATION:entsprechend Information zur Tour
CATEGORIES:Besondere Angebote
ATTACH;FMTTYPE=image/jpeg:https://einecke-wandern.de/wp-content/uploads/2022/01/winterzauber_angebote.jpg
ORGANIZER;CN="EINECKE-Wandern":MAILTO:info@einecke-wandern.de
END:VEVENT
BEGIN:VEVENT
DTSTART;TZID=Europe/Berlin:20230210T093000
DTEND;TZID=Europe/Berlin:20230210T133000
DTSTAMP:20260423T193819
CREATED:20230130T105014Z
LAST-MODIFIED:20230130T105014Z
UID:10000114-1676021400-1676035800@einecke-wandern.de
SUMMARY:Winterzauber Halbtageswanderung
DESCRIPTION:AUSGEBUCHT \nAuf Schneeschuhen  die unberührte Natur genießen \nWir bewegen uns abseits der viel begangenen Winterwanderwege im tieferen Schnee und genießen diese besondere Art der Fortbewegung. Du brauchst dafür keinerlei Erfahrung\, sondern nur Lust\, es einmal zu probieren. Belohnt wirst du mit interessanten Einblicken in die Wintergeheimnisse der Natur.
URL:https://einecke-wandern.de/event/winterzauber-halbtageswanderung-2/
LOCATION:entsprechend Information zur Tour
CATEGORIES:Touren
ATTACH;FMTTYPE=image/jpeg:https://einecke-wandern.de/wp-content/uploads/2022/01/winterzauber_angebote.jpg
ORGANIZER;CN="EINECKE-Wandern":MAILTO:info@einecke-wandern.de
END:VEVENT
BEGIN:VEVENT
DTSTART;TZID=Europe/Berlin:20230208T100000
DTEND;TZID=Europe/Berlin:20230208T160000
DTSTAMP:20260423T193819
CREATED:20230130T104608Z
LAST-MODIFIED:20230130T104730Z
UID:10000113-1675850400-1675872000@einecke-wandern.de
SUMMARY:Winterzauber Ganztageswanderung
DESCRIPTION:AUSGEBUCHT \nAuf Schneeschuhen die unberührte Natur genießen \nWir bewegen uns abseits der viel begangenen Winterwanderwege im tieferen Schnee und genießen diese besondere Art der Fortbewegung. Du brauchst dafür keinerlei Erfahrung\, sondern nur Lust\, es einmal zu probieren. Belohnt wirst du mit interessanten Einblicken in die Wintergeheimnisse der Natur.
URL:https://einecke-wandern.de/event/winterzauber-ganztageswanderung-2/
LOCATION:individuelle Location
CATEGORIES:Touren
ATTACH;FMTTYPE=image/jpeg:https://einecke-wandern.de/wp-content/uploads/2023/01/image-20230128-160155.jpeg
ORGANIZER;CN="EINECKE-Wandern":MAILTO:info@einecke-wandern.de
END:VEVENT
BEGIN:VEVENT
DTSTART;TZID=Europe/Berlin:20221127T100000
DTEND;TZID=Europe/Berlin:20221127T170000
DTSTAMP:20260423T193819
CREATED:20220908T145401Z
LAST-MODIFIED:20220908T145556Z
UID:10000096-1669543200-1669568400@einecke-wandern.de
SUMMARY:Eine Sternengeschichte- lebendig und gefühlvoll erzählt
DESCRIPTION:Ein Erlebnis auf dem Weihnachtsmarkt der Herrnhuter Sterne Manufaktur \n  \nKommt einfach vorbei!
URL:https://einecke-wandern.de/event/eine-sternengeschichte/
LOCATION:Herrnhuter Sterne Manufaktur\, Oderwitzer Str.8\, 02747 Herrnhut\, Sachsen\, Deutschland
CATEGORIES:Familienerlebnisse
ATTACH;FMTTYPE=image/webp:https://einecke-wandern.de/wp-content/uploads/2022/09/star-1562808__480.webp
END:VEVENT
BEGIN:VEVENT
DTSTART;TZID=Europe/Berlin:20221119T180000
DTEND;TZID=Europe/Berlin:20221119T220000
DTSTAMP:20260423T193819
CREATED:20220912T131638Z
LAST-MODIFIED:20220912T131942Z
UID:10000097-1668880800-1668895200@einecke-wandern.de
SUMMARY:Kulinarische Reise "Mein Nepal"
DESCRIPTION:AUSGEBUCHT \n  \nErlebnisbericht über ein fernes Land mit gemeinsamem Kochen eines landestypischen Menüs \nViele Jahre waren Nepal und das höchste Gebirge der Welt\, der Himalaya\, Mittelpunkt meiner bergsteigerischen Träume. 2014 habe ich ihn mir erfüllt. Und zwar so\, wie ich es mir wünschte: Den Menschen und den Bergen ganz nah. Ich möchte Euch mitnehmen auf diese Reise. Beim gemeinsamen Kochen und Essen nach Originalrezepten\, die ich von den Menschen dort mitgebracht habe\, bekommt Ihr einen Eindruck vom Leben in diesem Land.  Anschließend berichte ich Euch eindrucksvoll von meiner Trekking-Tour.
URL:https://einecke-wandern.de/event/kulinarische-reise-mein-nepal/
LOCATION:individuelle Location
CATEGORIES:Besondere Angebote
ATTACH;FMTTYPE=image/jpeg:https://einecke-wandern.de/wp-content/uploads/2022/03/kulinarische_reise_nepal.jpg
ORGANIZER;CN="EINECKE-Wandern":MAILTO:info@einecke-wandern.de
END:VEVENT
BEGIN:VEVENT
DTSTART;TZID=Europe/Berlin:20221012T093000
DTEND;TZID=Europe/Berlin:20221012T123000
DTSTAMP:20260423T193819
CREATED:20220902T122539Z
LAST-MODIFIED:20220902T122539Z
UID:10000095-1665567000-1665577800@einecke-wandern.de
SUMMARY:Individuelle Tour - Schulklasse
DESCRIPTION:Ein Erlebnis ganz nach Euren Wünschen  AUSGEBUCHT
URL:https://einecke-wandern.de/event/individuelle-tour-schulklasse/
LOCATION:entsprechend Information zur Tour
CATEGORIES:Besondere Angebote
ATTACH;FMTTYPE=image/jpeg:https://einecke-wandern.de/wp-content/uploads/2022/07/individuelle_touren.jpg
ORGANIZER;CN="EINECKE-Wandern":MAILTO:info@einecke-wandern.de
END:VEVENT
BEGIN:VEVENT
DTSTART;TZID=Europe/Berlin:20220902T190000
DTEND;TZID=Europe/Berlin:20220902T210000
DTSTAMP:20260423T193819
CREATED:20220828T085620Z
LAST-MODIFIED:20220828T085620Z
UID:10000094-1662145200-1662152400@einecke-wandern.de
SUMMARY:Glühwürmchentour
DESCRIPTION:Wege und Natur in der Dunkelheit oder Dämmerung erleben \nWenn der Tag zu Ende geht und die Dämmerung hereinbricht\, legt sich nach und nach die Dunkelheit über die Welt. Auf unserer Tour lauschen wir Geräuschen der Nacht und erleben die Natur auf eine andere Weise. Seid gespannt und neugierig!
URL:https://einecke-wandern.de/event/gluehwuermchentour-6/
LOCATION:Großschönau\, Parkplatz „Trixi-Park“\, Sachsen\, Deutschland
CATEGORIES:Familienerlebnisse
ATTACH;FMTTYPE=image/jpeg:https://einecke-wandern.de/wp-content/uploads/2022/03/gluehwuermchen_2.jpg
ORGANIZER;CN="EINECKE-Wandern":MAILTO:info@einecke-wandern.de
END:VEVENT
BEGIN:VEVENT
DTSTART;TZID=Europe/Berlin:20220830T103000
DTEND;TZID=Europe/Berlin:20220830T133000
DTSTAMP:20260423T193819
CREATED:20220730T151208Z
LAST-MODIFIED:20220730T151245Z
UID:10000089-1661855400-1661866200@einecke-wandern.de
SUMMARY:Familien-Entdecker-Tour Zittauer Gebirge
DESCRIPTION:Auf dieser spannenden Tour zeige ich Euch Besonderheiten und Geheimnisse des Zittauer Gebirges. \nGemeinsam entdecken wir die Berg- und Steinwelt sowie besondere Aussichtspunkte. \nSpiel und Spaß kommen auch nicht zu kurz. Lasst Euch überraschen!
URL:https://einecke-wandern.de/event/familien-entdecker-tour-zittauer-gebirge-5/
LOCATION:Oybin/ Lückendorf \, Parkplatz Kammloch\, Sachsen\, Deutschland
CATEGORIES:Familienerlebnisse
ATTACH;FMTTYPE=image/jpeg:https://einecke-wandern.de/wp-content/uploads/2022/03/2-Geheimnisvolle-Wege-scaled-e1647364529231.jpg
ORGANIZER;CN="EINECKE-Wandern":MAILTO:info@einecke-wandern.de
END:VEVENT
BEGIN:VEVENT
DTSTART;TZID=Europe/Berlin:20220829T101500
DTEND;TZID=Europe/Berlin:20220829T133000
DTSTAMP:20260423T193819
CREATED:20220730T143420Z
LAST-MODIFIED:20220730T145627Z
UID:10000084-1661768100-1661779800@einecke-wandern.de
SUMMARY:Der Zaubervogel von der Lausche
DESCRIPTION:Erlebnis für Klein und Groß inspiriert von einer Sage des Zittauer Gebirges \nKennt ihr den Zaubervogel von der Lausche? \nIch erzähle euch davon und führe euch zu sagenumwobenen Orten. \nUnd wer weiß\, vielleicht kommen wir dem Zaubervogel auf die Spur und entdecken ihn …
URL:https://einecke-wandern.de/event/der-zaubervogel-von-der-lausche-6/
LOCATION:Waltersdorf Parkplatz Neu Sorge\, Sachsen\, Deutschland
CATEGORIES:Familienerlebnisse
ATTACH;FMTTYPE=image/jpeg:https://einecke-wandern.de/wp-content/uploads/2022/01/zaubervogel.jpg
ORGANIZER;CN="EINECKE-Wandern":MAILTO:info@einecke-wandern.de
END:VEVENT
BEGIN:VEVENT
DTSTART;TZID=Europe/Berlin:20220825T190000
DTEND;TZID=Europe/Berlin:20220825T210000
DTSTAMP:20260423T193819
CREATED:20220730T152736Z
LAST-MODIFIED:20220822T093536Z
UID:10000093-1661454000-1661461200@einecke-wandern.de
SUMMARY:Glühwürmchentour
DESCRIPTION:Wege und Natur in der Dunkelheit oder Dämmerung erleben \nWenn der Tag zu Ende geht und die Dämmerung hereinbricht\, legt sich nach und nach die Dunkelheit über die Welt. Auf unserer Tour lauschen wir Geräuschen der Nacht und erleben die Natur auf eine andere Weise. Seid gespannt und neugierig!
URL:https://einecke-wandern.de/event/gluehwuermchentour-5/
LOCATION:Großschönau\, Parkplatz „Trixi-Park“\, Sachsen\, Deutschland
CATEGORIES:Familienerlebnisse
ATTACH;FMTTYPE=image/jpeg:https://einecke-wandern.de/wp-content/uploads/2022/03/gluehwuermchen_2.jpg
ORGANIZER;CN="EINECKE-Wandern":MAILTO:info@einecke-wandern.de
END:VEVENT
BEGIN:VEVENT
DTSTART;TZID=Europe/Berlin:20220823T103000
DTEND;TZID=Europe/Berlin:20220823T133000
DTSTAMP:20260423T193819
CREATED:20220730T150644Z
LAST-MODIFIED:20220730T150644Z
UID:10000088-1661250600-1661261400@einecke-wandern.de
SUMMARY:Familien-Entdecker-Tour Zittauer Gebirge
DESCRIPTION:Auf dieser spannenden Tour zeige ich Euch Besonderheiten und Geheimnisse des Zittauer Gebirges. \nGemeinsam entdecken wir die Berg- und Steinwelt sowie besondere Aussichtspunkte. \nSpiel und Spaß kommen auch nicht zu kurz. Lasst Euch überraschen!
URL:https://einecke-wandern.de/event/familien-entdecker-tour-zittauer-gebirge-4/
LOCATION:Oybin/ Lückendorf \, Parkplatz Kammloch\, Sachsen\, Deutschland
CATEGORIES:Familienerlebnisse
ATTACH;FMTTYPE=image/jpeg:https://einecke-wandern.de/wp-content/uploads/2022/03/2-Geheimnisvolle-Wege-scaled-e1647364529231.jpg
ORGANIZER;CN="EINECKE-Wandern":MAILTO:info@einecke-wandern.de
END:VEVENT
BEGIN:VEVENT
DTSTART;TZID=Europe/Berlin:20220822T101500
DTEND;TZID=Europe/Berlin:20220822T133000
DTSTAMP:20260423T193819
CREATED:20220730T143050Z
LAST-MODIFIED:20220730T145529Z
UID:10000083-1661163300-1661175000@einecke-wandern.de
SUMMARY:Der Zaubervogel von der Lausche
DESCRIPTION:Erlebnis für Klein und Groß inspiriert von einer Sage des Zittauer Gebirges \nKennt ihr den Zaubervogel von der Lausche? \nIch erzähle euch davon und führe euch zu sagenumwobenen Orten. \nUnd wer weiß\, vielleicht kommen wir dem Zaubervogel auf die Spur und entdecken ihn …
URL:https://einecke-wandern.de/event/der-zaubervogel-von-der-lausche-5/
LOCATION:Waltersdorf Parkplatz Neu Sorge\, Sachsen\, Deutschland
CATEGORIES:Familienerlebnisse
ATTACH;FMTTYPE=image/jpeg:https://einecke-wandern.de/wp-content/uploads/2022/01/zaubervogel.jpg
ORGANIZER;CN="EINECKE-Wandern":MAILTO:info@einecke-wandern.de
END:VEVENT
BEGIN:VEVENT
DTSTART;TZID=Europe/Berlin:20220818T190000
DTEND;TZID=Europe/Berlin:20220818T210000
DTSTAMP:20260423T193819
CREATED:20220730T152500Z
LAST-MODIFIED:20220730T152500Z
UID:10000092-1660849200-1660856400@einecke-wandern.de
SUMMARY:Glühwürmchentour
DESCRIPTION:Wege und Natur in der Dunkelheit oder Dämmerung erleben \nWenn der Tag zu Ende geht und die Dämmerung hereinbricht\, legt sich nach und nach die Dunkelheit über die Welt. Auf unserer Tour lauschen wir Geräuschen der Nacht und erleben die Natur auf eine andere Weise. Seid gespannt und neugierig!
URL:https://einecke-wandern.de/event/gluehwuermchentour-4/
LOCATION:Großschönau\, Parkplatz „Trixi-Park“\, Sachsen\, Deutschland
CATEGORIES:Familienerlebnisse
ATTACH;FMTTYPE=image/jpeg:https://einecke-wandern.de/wp-content/uploads/2022/03/gluehwuermchen_2.jpg
ORGANIZER;CN="EINECKE-Wandern":MAILTO:info@einecke-wandern.de
END:VEVENT
BEGIN:VEVENT
DTSTART;TZID=Europe/Berlin:20220816T103000
DTEND;TZID=Europe/Berlin:20220816T133000
DTSTAMP:20260423T193819
CREATED:20220730T150332Z
LAST-MODIFIED:20220730T150332Z
UID:10000087-1660645800-1660656600@einecke-wandern.de
SUMMARY:Familien-Entdecker-Tour Zittauer Gebirge
DESCRIPTION:Auf dieser spannenden Tour zeige ich Euch Besonderheiten und Geheimnisse des Zittauer Gebirges. \nGemeinsam entdecken wir die Berg- und Steinwelt sowie besondere Aussichtspunkte. \nSpiel und Spaß kommen auch nicht zu kurz. Lasst Euch überraschen!
URL:https://einecke-wandern.de/event/familien-entdecker-tour-zittauer-gebirge-3/
LOCATION:Oybin/ Lückendorf \, Parkplatz Kammloch\, Sachsen\, Deutschland
CATEGORIES:Familienerlebnisse
ATTACH;FMTTYPE=image/jpeg:https://einecke-wandern.de/wp-content/uploads/2022/03/2-Geheimnisvolle-Wege-scaled-e1647364529231.jpg
ORGANIZER;CN="EINECKE-Wandern":MAILTO:info@einecke-wandern.de
END:VEVENT
BEGIN:VEVENT
DTSTART;TZID=Europe/Berlin:20220815T101500
DTEND;TZID=Europe/Berlin:20220815T133000
DTSTAMP:20260423T193819
CREATED:20220730T142739Z
LAST-MODIFIED:20220730T145703Z
UID:10000082-1660558500-1660570200@einecke-wandern.de
SUMMARY:Der Zaubervogel von der Lausche
DESCRIPTION:Erlebnis für Klein und Groß inspiriert von einer Sage des Zittauer Gebirges \nKennt ihr den Zaubervogel von der Lausche? \nIch erzähle euch davon und führe euch zu sagenumwobenen Orten. \nUnd wer weiß\, vielleicht kommen wir dem Zaubervogel auf die Spur und entdecken ihn …
URL:https://einecke-wandern.de/event/der-zaubervogel-von-der-lausche-4/
LOCATION:Waltersdorf Parkplatz Neu Sorge\, Sachsen\, Deutschland
CATEGORIES:Familienerlebnisse
ATTACH;FMTTYPE=image/jpeg:https://einecke-wandern.de/wp-content/uploads/2022/01/zaubervogel.jpg
ORGANIZER;CN="EINECKE-Wandern":MAILTO:info@einecke-wandern.de
END:VEVENT
BEGIN:VEVENT
DTSTART;TZID=Europe/Berlin:20220811T190000
DTEND;TZID=Europe/Berlin:20220811T210000
DTSTAMP:20260423T193819
CREATED:20220730T152155Z
LAST-MODIFIED:20220730T152155Z
UID:10000091-1660244400-1660251600@einecke-wandern.de
SUMMARY:Glühwürmchentour
DESCRIPTION:Wege und Natur in der Dunkelheit oder Dämmerung erleben \nWenn der Tag zu Ende geht und die Dämmerung hereinbricht\, legt sich nach und nach die Dunkelheit über die Welt. Auf unserer Tour lauschen wir Geräuschen der Nacht und erleben die Natur auf eine andere Weise. Seid gespannt und neugierig!
URL:https://einecke-wandern.de/event/gluehwuermchentour-3/
LOCATION:Großschönau\, Parkplatz „Trixi-Park“\, Sachsen\, Deutschland
CATEGORIES:Familienerlebnisse
ATTACH;FMTTYPE=image/jpeg:https://einecke-wandern.de/wp-content/uploads/2022/03/gluehwuermchen_2.jpg
ORGANIZER;CN="EINECKE-Wandern":MAILTO:info@einecke-wandern.de
END:VEVENT
BEGIN:VEVENT
DTSTART;TZID=Europe/Berlin:20220809T103000
DTEND;TZID=Europe/Berlin:20220809T133000
DTSTAMP:20260423T193819
CREATED:20220730T145213Z
LAST-MODIFIED:20220730T145213Z
UID:10000086-1660041000-1660051800@einecke-wandern.de
SUMMARY:Familien-Entdecker-Tour Zittauer Gebirge
DESCRIPTION:Auf dieser spannenden Tour zeige ich Euch Besonderheiten und Geheimnisse des Zittauer Gebirges. \nGemeinsam entdecken wir die Berg- und Steinwelt sowie besondere Aussichtspunkte. \nSpiel und Spaß kommen auch nicht zu kurz. Lasst Euch überraschen!
URL:https://einecke-wandern.de/event/familien-entdecker-tour-zittauer-gebirge-2/
LOCATION:Oybin/ Lückendorf \, Parkplatz Kammloch\, Sachsen\, Deutschland
CATEGORIES:Familienerlebnisse
ATTACH;FMTTYPE=image/jpeg:https://einecke-wandern.de/wp-content/uploads/2022/03/2-Geheimnisvolle-Wege-scaled-e1647364529231.jpg
ORGANIZER;CN="EINECKE-Wandern":MAILTO:info@einecke-wandern.de
END:VEVENT
BEGIN:VEVENT
DTSTART;TZID=Europe/Berlin:20220808T101500
DTEND;TZID=Europe/Berlin:20220808T133000
DTSTAMP:20260423T193819
CREATED:20220730T142225Z
LAST-MODIFIED:20220730T145826Z
UID:10000081-1659953700-1659965400@einecke-wandern.de
SUMMARY:Der Zaubervogel von der Lausche
DESCRIPTION:Erlebnis für Klein und Groß inspiriert von einer Sage des Zittauer Gebirges \nKennt ihr den Zaubervogel von der Lausche? \nIch erzähle euch davon und führe euch zu sagenumwobenen Orten. \nUnd wer weiß\, vielleicht kommen wir dem Zaubervogel auf die Spur und entdecken ihn …
URL:https://einecke-wandern.de/event/der-zaubervogel-von-der-lausche-3/
LOCATION:Waltersdorf Parkplatz Neu Sorge\, Sachsen\, Deutschland
CATEGORIES:Familienerlebnisse
ATTACH;FMTTYPE=image/jpeg:https://einecke-wandern.de/wp-content/uploads/2022/01/zaubervogel.jpg
ORGANIZER;CN="EINECKE-Wandern":MAILTO:info@einecke-wandern.de
END:VEVENT
BEGIN:VEVENT
DTSTART;TZID=Europe/Berlin:20220804T190000
DTEND;TZID=Europe/Berlin:20220804T210000
DTSTAMP:20260423T193819
CREATED:20220730T151914Z
LAST-MODIFIED:20220730T151914Z
UID:10000090-1659639600-1659646800@einecke-wandern.de
SUMMARY:Glühwürmchentour
DESCRIPTION:Wege und Natur in der Dunkelheit oder Dämmerung erleben \nWenn der Tag zu Ende geht und die Dämmerung hereinbricht\, legt sich nach und nach die Dunkelheit über die Welt. Auf unserer Tour lauschen wir Geräuschen der Nacht und erleben die Natur auf eine andere Weise. Seid gespannt und neugierig!
URL:https://einecke-wandern.de/event/gluehwuermchentour-2/
LOCATION:Großschönau\, Parkplatz „Trixi-Park“\, Sachsen\, Deutschland
CATEGORIES:Familienerlebnisse
ATTACH;FMTTYPE=image/jpeg:https://einecke-wandern.de/wp-content/uploads/2022/03/gluehwuermchen_2.jpg
ORGANIZER;CN="EINECKE-Wandern":MAILTO:info@einecke-wandern.de
END:VEVENT
BEGIN:VEVENT
DTSTART;TZID=Europe/Berlin:20220802T103000
DTEND;TZID=Europe/Berlin:20220802T133000
DTSTAMP:20260423T193819
CREATED:20220730T144248Z
LAST-MODIFIED:20220730T150008Z
UID:10000085-1659436200-1659447000@einecke-wandern.de
SUMMARY:Familien-Entdecker-Tour Zittauer Gebirge
DESCRIPTION:Auf dieser spannenden Tour zeige ich Euch Besonderheiten und Geheimnisse des Zittauer Gebirges. \nGemeinsam entdecken wir die Berg- und Steinwelt sowie besondere Aussichtspunkte. \nSpiel und Spaß kommen auch nicht zu kurz. Lasst Euch überraschen! \n  \n  \n 
URL:https://einecke-wandern.de/event/familien-entdecker-tour-zittauer-gebirge/
LOCATION:Oybin/ Lückendorf \, Parkplatz Kammloch\, Sachsen\, Deutschland
CATEGORIES:Familienerlebnisse
ATTACH;FMTTYPE=image/jpeg:https://einecke-wandern.de/wp-content/uploads/2022/01/wandern_mit_kindern.jpg
ORGANIZER;CN="EINECKE-Wandern":MAILTO:info@einecke-wandern.de
END:VEVENT
BEGIN:VEVENT
DTSTART;TZID=Europe/Berlin:20220801T101500
DTEND;TZID=Europe/Berlin:20220801T133000
DTSTAMP:20260423T193819
CREATED:20220730T141815Z
LAST-MODIFIED:20220730T145908Z
UID:10000080-1659348900-1659360600@einecke-wandern.de
SUMMARY:Der Zaubervogel von der Lausche
DESCRIPTION:Erlebnis für Klein und Groß inspiriert von einer Sage des Zittauer Gebirges \nKennt ihr den Zaubervogel von der Lausche? \nIch erzähle euch davon und führe euch zu sagenumwobenen Orten. \nUnd wer weiß\, vielleicht kommen wir dem Zaubervogel auf die Spur und entdecken ihn …
URL:https://einecke-wandern.de/event/der-zaubervogel-von-der-lausche-2/
LOCATION:Waltersdorf Parkplatz Neu Sorge\, Sachsen\, Deutschland
CATEGORIES:Familienerlebnisse
ATTACH;FMTTYPE=image/jpeg:https://einecke-wandern.de/wp-content/uploads/2022/01/zaubervogel.jpg
ORGANIZER;CN="EINECKE-Wandern":MAILTO:info@einecke-wandern.de
END:VEVENT
END:VCALENDAR