BEGIN:VCALENDAR
VERSION:2.0
PRODID:-//Einecke - wandern - erleben - entdecken - ECPv6.15.20//NONSGML v1.0//EN
CALSCALE:GREGORIAN
METHOD:PUBLISH
X-ORIGINAL-URL:https://einecke-wandern.de
X-WR-CALDESC:Veranstaltungen für Einecke - wandern - erleben - entdecken
REFRESH-INTERVAL;VALUE=DURATION:PT1H
X-Robots-Tag:noindex
X-PUBLISHED-TTL:PT1H
BEGIN:VTIMEZONE
TZID:Europe/Berlin
BEGIN:DAYLIGHT
TZOFFSETFROM:+0100
TZOFFSETTO:+0200
TZNAME:CEST
DTSTART:20210328T010000
END:DAYLIGHT
BEGIN:STANDARD
TZOFFSETFROM:+0200
TZOFFSETTO:+0100
TZNAME:CET
DTSTART:20211031T010000
END:STANDARD
BEGIN:DAYLIGHT
TZOFFSETFROM:+0100
TZOFFSETTO:+0200
TZNAME:CEST
DTSTART:20220327T010000
END:DAYLIGHT
BEGIN:STANDARD
TZOFFSETFROM:+0200
TZOFFSETTO:+0100
TZNAME:CET
DTSTART:20221030T010000
END:STANDARD
BEGIN:DAYLIGHT
TZOFFSETFROM:+0100
TZOFFSETTO:+0200
TZNAME:CEST
DTSTART:20230326T010000
END:DAYLIGHT
BEGIN:STANDARD
TZOFFSETFROM:+0200
TZOFFSETTO:+0100
TZNAME:CET
DTSTART:20231029T010000
END:STANDARD
END:VTIMEZONE
BEGIN:VEVENT
DTSTART;TZID=Europe/Berlin:20220714T193000
DTEND;TZID=Europe/Berlin:20220714T213000
DTSTAMP:20260424T014927
CREATED:20220426T142344Z
LAST-MODIFIED:20220713T111544Z
UID:10000076-1657827000-1657834200@einecke-wandern.de
SUMMARY:Glühwürmchentour
DESCRIPTION:Wege und Natur in der Dunkelheit oder Dämmerung erleben \nWenn der Tag zu Ende geht und die Dämmerung hereinbricht\, legt sich nach und nach die Dunkelheit über die Welt. Auf unserer Tour lauschen wir Geräuschen der Nacht und erleben die Natur auf eine andere Weise. Seid gespannt und neugierig!
URL:https://einecke-wandern.de/event/gluehwuermchentour/
LOCATION:Großschönau\, Parkplatz „Trixi-Park“\, Sachsen\, Deutschland
CATEGORIES:Familienerlebnisse
ATTACH;FMTTYPE=image/jpeg:https://einecke-wandern.de/wp-content/uploads/2022/03/gluehwuermchen_2.jpg
ORGANIZER;CN="EINECKE-Wandern":MAILTO:info@einecke-wandern.de
END:VEVENT
BEGIN:VEVENT
DTSTART;TZID=Europe/Berlin:20220620T080000
DTEND;TZID=Europe/Berlin:20220622T170000
DTSTAMP:20260424T014927
CREATED:20220426T072448Z
LAST-MODIFIED:20220906T134024Z
UID:10000074-1655712000-1655917200@einecke-wandern.de
SUMMARY:Hüttenwanderung Österreich Kaunertal
DESCRIPTION:Diese Mehrtagestour führt uns in die schönsten Gebiete des Kaunertals. Höhepunkt ist die Wanderung zur Gletscherzunge des Gepatschferners\, dem zweitgrößten Gletscher in Österreich.
URL:https://einecke-wandern.de/event/huettenwanderung-oesterreich-kaunertal/
LOCATION:entsprechend Information zur Tour
CATEGORIES:Touren
ATTACH;FMTTYPE=image/jpeg:https://einecke-wandern.de/wp-content/uploads/2022/04/Kaunertal-scaled.jpg
ORGANIZER;CN="EINECKE-Wandern":MAILTO:info@einecke-wandern.de
END:VEVENT
BEGIN:VEVENT
DTSTART;TZID=Europe/Berlin:20220526T080000
DTEND;TZID=Europe/Berlin:20220529T140000
DTSTAMP:20260424T014927
CREATED:20220426T072448Z
LAST-MODIFIED:20220906T134121Z
UID:10000073-1653552000-1653832800@einecke-wandern.de
SUMMARY:Mehrtageswanderung Isergebirge
DESCRIPTION:Direkt an das Zittauer Gebirge schließt sich im Osten der Kamm des tschechischen Isergebirges an. Diese Mehrtageswanderung führt uns über bekannte und weniger bekannte Pfade hin zu interessanten Orten und Berggipfeln. Uns erwarten wunderbare Aussichten und das Zittauer Gebirge grüßt aus der Ferne.
URL:https://einecke-wandern.de/event/mehrtageswanderung-isergebirge/
LOCATION:entsprechend Information zur Tour
CATEGORIES:Touren
ATTACH;FMTTYPE=image/jpeg:https://einecke-wandern.de/wp-content/uploads/2022/04/Isergebirge.jpg
ORGANIZER;CN="EINECKE-Wandern":MAILTO:info@einecke-wandern.de
END:VEVENT
END:VCALENDAR